BEGIN:VCALENDAR
VERSION:2.0
PRODID:-//wp-events-plugin.com//7.2.3.1//EN
BEGIN:VEVENT
UID:211@ouisrael.org
DTSTART:20150430T183000Z
DTEND:20150430T220000Z
DTSTAMP:20150426T065425Z
URL:https://www.ouisrael.org/events/a-night-out-at-the-new-jerusalem-arena
 -2/
SUMMARY:A Night out at the NEW Jerusalem Arena
DESCRIPTION:A Night out at the NEW Jerusalem Arena\n\nThursday evening\, Ap
 ril 30\n\n6:30PM\n\nJOIN us as a VIP \,as we watch Hapoel Jerusalem  vs.
  Galil Elyon\n\nMEET with Tamir Goodman\, dubbed the "Jewish Jordan" by S
 ports Illustrated and now representative  of Hapoel for a one hour discus
 sion before the game.\n\nPARTICIPATE after the game in a  short Q &amp\;
  A session with some of the players\, some of which played previously in t
 he NBA\n\n100NIS\n\n90NIS (members)\n\nHosted by David Katz\n\n\n\n&nbsp\;
ATTACH;FMTTYPE=image/jpeg:https://www.ouisrael.org/content/uploads/2015/04
 /unnamed-142.jpg
CATEGORIES:OU Israel Travel
LOCATION:OU Israel Center\, 22 Keren Hayesod\, Jerusalem\, Israel
GEO:31.772827;35.220585
X-APPLE-STRUCTURED-LOCATION;VALUE=URI;X-ADDRESS=22 Keren Hayesod\, Jerusale
 m\, Israel;X-APPLE-RADIUS=100;X-TITLE=OU Israel Center:geo:31.772827,35.22
 0585
END:VEVENT
END:VCALENDAR