BEGIN:VCALENDAR
VERSION:2.0
PRODID:-//wp-events-plugin.com//7.2.3.1//EN
BEGIN:VEVENT
UID:33678@ouisrael.org
DTSTART;TZID=Asia/Jerusalem:20230123T201500
DTEND;TZID=Asia/Jerusalem:20230123T214500
DTSTAMP:20230122T091741Z
URL:https://www.ouisrael.org/events/atid-esther/
SUMMARY:ATID Megillat Esther Track
DESCRIPTION:\n\n\nPlease do not let the expense stand in your way. If you a
 re committed to coming to the series but can't afford the extra expense\, 
 we are giving an option to register for half price (50NIS for the series!)
 . Hope to see you there!!\n\n&nbsp\;\n\n&nbsp\;
CATEGORIES:Layla
END:VEVENT
BEGIN:VTIMEZONE
TZID:Asia/Jerusalem
X-LIC-LOCATION:Asia/Jerusalem
BEGIN:STANDARD
DTSTART:20221030T010000
TZOFFSETFROM:+0300
TZOFFSETTO:+0200
TZNAME:IST
END:STANDARD
END:VTIMEZONE
END:VCALENDAR