BEGIN:VCALENDAR
VERSION:2.0
PRODID:-//wp-events-plugin.com//7.2.3.1//EN
BEGIN:VEVENT
UID:33645@ouisrael.org
DTSTART;TZID=Asia/Jerusalem:20221107T200000
DTEND;TZID=Asia/Jerusalem:20221107T230000
DTSTAMP:20221103T091627Z
URL:https://www.ouisrael.org/events/atid-keverrachel/
SUMMARY:ATID Trip to Kever Rachel (young Olot)
DESCRIPTION:The bus will leave the OU Israel center (22 Keren hayesod) at 8
 pm and will return to the center by 11pm. Make sure you register for this 
 inspirational trip!\n\n\n\nWe  know it's sometimes hard financially when 
 you are here on your own\, or studying\, doing sherut leumi etc.\, please 
 do not be turned away by the cost. We are adding an option by the registra
 tion to pay on a sliding scale\, to be used as you see fit.
END:VEVENT
BEGIN:VTIMEZONE
TZID:Asia/Jerusalem
X-LIC-LOCATION:Asia/Jerusalem
BEGIN:STANDARD
DTSTART:20221030T010000
TZOFFSETFROM:+0300
TZOFFSETTO:+0200
TZNAME:IST
END:STANDARD
END:VTIMEZONE
END:VCALENDAR