BEGIN:VCALENDAR
VERSION:2.0
PRODID:-//wp-events-plugin.com//7.2.3.1//EN
BEGIN:VEVENT
UID:24879@ouisrael.org
DTSTART;TZID=Asia/Jerusalem:20200726T170000
DTEND;TZID=Asia/Jerusalem:20200726T180000
DTSTAMP:20200715T070057Z
URL:https://www.ouisrael.org/events/beithamikdash/
SUMMARY:Virtual Beit Hamikdash Family Game Quiz
DESCRIPTION:Test your Beit Hamikdash Knowledge!!!\n\n\nHow it works:\n\n 	S
 ign up your family team below.\n 	Review what you know about the Beit Hami
 kdash as you prepare to compete in the OU ISRAEL virtual Beit Hamikdash qu
 iz!!!\n 	On Sunday\, July 26th\, 5pm (10am EST) set your team up to compet
 e. You will need to either use 2 devices (phone and computer or 2 computer
 s) or to use a computer and split the screen (do this by minimizing the tw
 o screens and pulling them each to take up half a screen)\n 	You will use 
 one screen for zoom\, and one for Kahoot.  On one screen\, go to https://
 us02web.zoom.us/j/85444886483\, and on the other go on to Kahoot (we will 
 give you the Kahoot pin # at the competition). If you are using a phone an
 d computer\, will probably work better to use the computer for zoom and th
 e phone for kahoot.\n 	Ready\, set\, play!!!!\n\nLooking forward to seeing
  you there! If you have any questions\, email zemiraoz@ouisrael.org
LOCATION:OU Israel Center\, 22 Keren Hayesod\, Jerusalem\, Israel
GEO:31.772827;35.220585
X-APPLE-STRUCTURED-LOCATION;VALUE=URI;X-ADDRESS=22 Keren Hayesod\, Jerusale
 m\, Israel;X-APPLE-RADIUS=100;X-TITLE=OU Israel Center:geo:31.772827,35.22
 0585
END:VEVENT
BEGIN:VTIMEZONE
TZID:Asia/Jerusalem
X-LIC-LOCATION:Asia/Jerusalem
BEGIN:DAYLIGHT
DTSTART:20200327T030000
TZOFFSETFROM:+0200
TZOFFSETTO:+0300
TZNAME:IDT
END:DAYLIGHT
END:VTIMEZONE
END:VCALENDAR