BEGIN:VCALENDAR
VERSION:2.0
PRODID:-//wp-events-plugin.com//7.2.3.1//EN
BEGIN:VEVENT
UID:11461@ouisrael.org
DTSTART;TZID=Asia/Jerusalem:20180925T200000
DTEND;TZID=Asia/Jerusalem:20180925T220000
DTSTAMP:20180917T192346Z
URL:https://www.ouisrael.org/events/chol-hamoed-sukkot-jam-with-nuriel/
SUMMARY:Chol HaMoed Sukkot Jam with Yonatan Attias & Tzvi Solomons from Nur
 iel Band 
DESCRIPTION:JCHAT-The Jerusalem Community Hub for Anglos and Torah Presents
 :\n\nChol HaMoed Sukkot Jam with Yonatan Attias &amp\; Tzvi Solomons from 
 Nuriel Band\n\nTuesday evening September 25\, 8:00-10:00 pm\n\nOU Israel C
 enter Sukka\, Corner of Keren HaYesod and Mendele Mocher Sofrim Streets (2
 2 Keren Hayesod)\n\nRefreshments will be served\n\nThis event is for young
  professionals ages 25-45\n\nTickets- 50 NIS advance purchase/ online regi
 stration at:\n\nhttps://www.ouisrael.org/events/chol-hamoed-sukkot-jam-wit
 h-nuriel/\n\nor 65 NIS at the door....Limited Seating!!!!\n\nphoto credit:
  Tal Oron\n\n&nbsp\;
CATEGORIES:Jchat,Special Events
LOCATION:OU Israel Center\, 22 Keren Hayesod\, Jerusalem\, Israel
GEO:31.772827;35.220585
X-APPLE-STRUCTURED-LOCATION;VALUE=URI;X-ADDRESS=22 Keren Hayesod\, Jerusale
 m\, Israel;X-APPLE-RADIUS=100;X-TITLE=OU Israel Center:geo:31.772827,35.22
 0585
END:VEVENT
BEGIN:VTIMEZONE
TZID:Asia/Jerusalem
X-LIC-LOCATION:Asia/Jerusalem
BEGIN:DAYLIGHT
DTSTART:20180323T030000
TZOFFSETFROM:+0200
TZOFFSETTO:+0300
TZNAME:IDT
END:DAYLIGHT
END:VTIMEZONE
END:VCALENDAR