BEGIN:VCALENDAR
VERSION:2.0
PRODID:-//wp-events-plugin.com//7.2.3.1//EN
BEGIN:VEVENT
UID:6668@ouisrael.org
DTSTART:20171213T193000Z
DTEND:20171213T220000Z
DTSTAMP:20171212T105030Z
URL:https://www.ouisrael.org/events/jchat-solomon-brothers/
SUMMARY:JChat Chanuka Celebration with The solomon brothers
DESCRIPTION:Chanuka Celebration with the Jerusalem Community Hub for Anglos
  and Torah-The young professionals' division of OU Israel  (ages 25-45)\n
 \nWednesday December 13\nDoors Open at 7:30 pm for Cocktails featuring a V
 odka and Latke Bar\n\nCommunity Candle-lighting\, Divrei Torah from Rabbi 
 Sam Shor\nFeaturing a  live music show with The solomon brothers האחי
 ם סולומון\n\n30 NIS reserved tickets\n40 NIS at door\n\nAt the OU 
 Israel Center\, 22 Keren Hayesod\, Yerushalayim\n\nRegister below!\n\n
ATTACH;FMTTYPE=image/jpeg:https://www.ouisrael.org/content/uploads/2017/11
 /15936412_617212671804611_196697768282676255_o.jpg
CATEGORIES:Special Events
LOCATION:OU Israel Center\, 22 Keren Hayesod\, Jerusalem\, Israel
GEO:31.772827;35.220585
X-APPLE-STRUCTURED-LOCATION;VALUE=URI;X-ADDRESS=22 Keren Hayesod\, Jerusale
 m\, Israel;X-APPLE-RADIUS=100;X-TITLE=OU Israel Center:geo:31.772827,35.22
 0585
END:VEVENT
END:VCALENDAR