BEGIN:VCALENDAR
VERSION:2.0
PRODID:-//wp-events-plugin.com//7.2.3.1//EN
BEGIN:VEVENT
UID:9327@ouisrael.org
DTSTART:20180621T163000Z
DTEND:20180621T214500Z
DTSTAMP:20180621T075326Z
URL:https://www.ouisrael.org/events/maala-adumim/
SUMMARY:Evening Tiyul Exploring Maale Adumim (ages 60-75)
DESCRIPTION:\n\n\n\n\n\n\n\n\nLinking our Lives2gether for active single ol
 im 60-75\n\nEvening Tiyul Exploring Maale Adumim\n\nThursday\, June 21\, 4
 :30pm - 100:00pm\n\n* Guided bus tour of Maale Adumim learn its history an
 d biblical connection as well as its journey to becoming a modern city.\n\
 n*Visit Moshe Castel Museum of Art-Learn with a guide about his life and e
 volution of his unique style.\n\n* dinner at the Makom B'Lev Center -raisi
 ng young leaders through this OU Israel initiative plus an added treat!\n\
 n* See the moon\, planets and stars at the Star Observatory in the School 
 of Space Aviation\n\n160 nis Registration required: 02-560-9110\n\n\n\n\n
ATTACH;FMTTYPE=image/jpeg:https://www.ouisrael.org/content/uploads/2018/05
 /1280px-CastelMuseum.jpg
CATEGORIES:OU Israel Travel
LOCATION:OU Israel Center\, 22 Keren Hayesod\, Jerusalem\, Israel
GEO:31.772827;35.220585
X-APPLE-STRUCTURED-LOCATION;VALUE=URI;X-ADDRESS=22 Keren Hayesod\, Jerusale
 m\, Israel;X-APPLE-RADIUS=100;X-TITLE=OU Israel Center:geo:31.772827,35.22
 0585
END:VEVENT
END:VCALENDAR