BEGIN:VCALENDAR
VERSION:2.0
PRODID:-//wp-events-plugin.com//7.2.3.1//EN
BEGIN:VEVENT
UID:9285@ouisrael.org
DTSTART:20180318T084500Z
DTEND:20180318T124500Z
DTSTAMP:20180305T092921Z
URL:https://www.ouisrael.org/events/nisan-seminar/
SUMMARY:Rosh Chodesh Nisan Women's Learning Seminar
DESCRIPTION:Monthly Women's Learning Seminar Focusing on the Month of Nisa
 n\nSunday\, March 18th\, Nisan 2 -  8:45AM - 12:45PM\n9:00 – 9:15  
         Introduction: Rosh Chodesh and control over time:  Our Fir
 st Mitzvah as a Free Nation- Zemira Ozarowski\n9:15 – 10:15      
   A Halachic Guide to Making Pesach in Israel with Q &amp\; A Rabbi Yissa
 char Dov Krakowski\, Rabbinic Field Representative\, OU Israel Kashrus\n\n
 10:15 – 11:15     Personal Reflections over Brunch From Frown to Clow
 n: An Exodus to Personal Freedom-Julie Levi\n\n11:15 – 12:00     Sym
 bolism in the Haggadah-Sylvie Schatz\n\n12:00 -12:45       Chametz\,
  Matzah and the Middah of Zrizut: Philosophical and Practical Applications
  in a Woman's Life.-Dina Schoonmaker\n\n&nbsp\;\n\n- Free Babysitting\n\n-
  Brunch Provided\n\n- 40nis advanced registration / 50nis at the door\n\nF
 or more information and to register:\n\n02-560-9110\n\nwww.ouisrael.org/ev
 ents/nisan-seminar\n\nzemiraoz@ouisrael.org\n\n\n\n\n
ATTACH;FMTTYPE=image/jpeg:https://www.ouisrael.org/content/uploads/2018/02
 /Renewal-Nisan-Half-Wide-5-1.jpg
CATEGORIES:Special Events
LOCATION:OU Israel Center\, 22 Keren Hayesod\, Jerusalem\, Israel
GEO:31.772827;35.220585
X-APPLE-STRUCTURED-LOCATION;VALUE=URI;X-ADDRESS=22 Keren Hayesod\, Jerusale
 m\, Israel;X-APPLE-RADIUS=100;X-TITLE=OU Israel Center:geo:31.772827,35.22
 0585
END:VEVENT
END:VCALENDAR