BEGIN:VCALENDAR
VERSION:2.0
PRODID:-//wp-events-plugin.com//7.2.3.1//EN
BEGIN:VEVENT
UID:34338@ouisrael.org
DTSTART;TZID=Asia/Jerusalem:20260119T091500
DTEND;TZID=Asia/Jerusalem:20260119T131500
DTSTAMP:20260118T165950Z
URL:https://www.ouisrael.org/events/shevat2025bs/
SUMMARY:Rosh Chodesh Shevat Yom Iyun Beit Shemesh
DESCRIPTION:
CATEGORIES:Beit Shemesh,womens-division
LOCATION:Beit Midrash Torani Leumi 5 Reuven Street\, Beit Midrash Torani Le
 umi 5 Reuven Street\, Beit Shemesh\, Israel
X-APPLE-STRUCTURED-LOCATION;VALUE=URI;X-ADDRESS=Beit Midrash Torani Leumi 5
  Reuven Street\, Beit Shemesh\, Israel;X-APPLE-RADIUS=100;X-TITLE=Beit Mid
 rash Torani Leumi 5 Reuven Street:geo:0,0
END:VEVENT
BEGIN:VTIMEZONE
TZID:Asia/Jerusalem
X-LIC-LOCATION:Asia/Jerusalem
BEGIN:STANDARD
DTSTART:20251026T010000
TZOFFSETFROM:+0300
TZOFFSETTO:+0200
TZNAME:IST
END:STANDARD
END:VTIMEZONE
END:VCALENDAR