BEGIN:VCALENDAR
VERSION:2.0
PRODID:-//wp-events-plugin.com//7.2.3.1//EN
BEGIN:VEVENT
UID:34339@ouisrael.org
DTSTART;TZID=Asia/Jerusalem:20260119T090000
DTEND;TZID=Asia/Jerusalem:20260119T130000
DTSTAMP:20251229T123207Z
URL:https://www.ouisrael.org/events/shevat2026/
SUMMARY:Rosh Chodesh Shevat Women's Seminar
DESCRIPTION:
END:VEVENT
BEGIN:VTIMEZONE
TZID:Asia/Jerusalem
X-LIC-LOCATION:Asia/Jerusalem
BEGIN:STANDARD
DTSTART:20251026T010000
TZOFFSETFROM:+0300
TZOFFSETTO:+0200
TZNAME:IST
END:STANDARD
END:VTIMEZONE
END:VCALENDAR