BEGIN:VCALENDAR
VERSION:2.0
PRODID:-//wp-events-plugin.com//7.2.3.1//EN
BEGIN:VEVENT
UID:6667@ouisrael.org
DTSTART:20171224T084500Z
DTEND:20171224T130000Z
DTSTAMP:20171205T103007Z
URL:https://www.ouisrael.org/events/tevet-seminar/
SUMMARY:Rosh Chodesh Women's Learning Seminar focusing on Chodesh Tevet
DESCRIPTION:\n\n\n\nOU Israel presents\n\nRosh Chodesh Women's Learning Sem
 inar\n\nPresents a morning of learning focusing on Chodesh Tevet\n\nSunday
 \, December 24th\, 8:45AM - 1:00PM\n\nIn loving memory of Mrs Linda Pruwe
 r-Brachfeld a'h\nמרת חיה סאשא בת ר' יוסף הלל\n\n- Free
  Babysitting\n\n- Light Breakfast\n\n- 40nis per person\n\nFor more inform
 ation and to register call: 02-560-9110\n\nwww.ouisrael.org/events/tevet-
 seminar/\n\nFor more information email: zemiraoz@ouisrael.org\n\n\n\n\n\n&
 nbsp\;\n\n\n\n\n\n
ATTACH;FMTTYPE=image/jpeg:https://www.ouisrael.org/content/uploads/2017/11
 /IMG-20171119-WA0003-3.jpg
CATEGORIES:Special Events
LOCATION:OU Israel Center\, 22 Keren Hayesod\, Jerusalem\, Israel
GEO:31.772827;35.220585
X-APPLE-STRUCTURED-LOCATION;VALUE=URI;X-ADDRESS=22 Keren Hayesod\, Jerusale
 m\, Israel;X-APPLE-RADIUS=100;X-TITLE=OU Israel Center:geo:31.772827,35.22
 0585
END:VEVENT
END:VCALENDAR